BEGIN:VCALENDAR
VERSION:2.0
PRODID:-//Riverview High School - ECPv6.15.20//NONSGML v1.0//EN
CALSCALE:GREGORIAN
METHOD:PUBLISH
X-WR-CALNAME:Riverview High School
X-ORIGINAL-URL:https://rhsroyals.nbed.ca
X-WR-CALDESC:Events for Riverview High School
REFRESH-INTERVAL;VALUE=DURATION:PT1H
X-Robots-Tag:noindex
X-PUBLISHED-TTL:PT1H
BEGIN:VTIMEZONE
TZID:America/Moncton
BEGIN:DAYLIGHT
TZOFFSETFROM:-0400
TZOFFSETTO:-0300
TZNAME:ADT
DTSTART:20230312T060000
END:DAYLIGHT
BEGIN:STANDARD
TZOFFSETFROM:-0300
TZOFFSETTO:-0400
TZNAME:AST
DTSTART:20231105T050000
END:STANDARD
BEGIN:DAYLIGHT
TZOFFSETFROM:-0400
TZOFFSETTO:-0300
TZNAME:ADT
DTSTART:20240310T060000
END:DAYLIGHT
BEGIN:STANDARD
TZOFFSETFROM:-0300
TZOFFSETTO:-0400
TZNAME:AST
DTSTART:20241103T050000
END:STANDARD
BEGIN:DAYLIGHT
TZOFFSETFROM:-0400
TZOFFSETTO:-0300
TZNAME:ADT
DTSTART:20250309T060000
END:DAYLIGHT
BEGIN:STANDARD
TZOFFSETFROM:-0300
TZOFFSETTO:-0400
TZNAME:AST
DTSTART:20251102T050000
END:STANDARD
END:VTIMEZONE
BEGIN:VEVENT
DTSTART;VALUE=DATE:20240610
DTEND;VALUE=DATE:20240611
DTSTAMP:20260420T104724
CREATED:20240429T120311Z
LAST-MODIFIED:20240429T120311Z
UID:2306-1717977600-1718063999@rhsroyals.nbed.ca
SUMMARY:PowerSchool Disabled
DESCRIPTION:
URL:https://rhsroyals.nbed.ca/event/powerschool-disabled/
END:VEVENT
BEGIN:VEVENT
DTSTART;VALUE=DATE:20240610
DTEND;VALUE=DATE:20240615
DTSTAMP:20260420T104724
CREATED:20230914T130732Z
LAST-MODIFIED:20240424T185922Z
UID:2163-1717977600-1718409599@rhsroyals.nbed.ca
SUMMARY:Final Assessments and Demonstration of Learning Week
DESCRIPTION:
URL:https://rhsroyals.nbed.ca/event/final-assessments-and-demonstration-of-learning-week-3/
END:VEVENT
BEGIN:VEVENT
DTSTART;TZID=America/Moncton:20240610T160000
DTEND;TZID=America/Moncton:20240610T160000
DTSTAMP:20260420T104724
CREATED:20240129T134648Z
LAST-MODIFIED:20240129T134648Z
UID:2250-1718035200-1718035200@rhsroyals.nbed.ca
SUMMARY:Parent Portal Disabled
DESCRIPTION:
URL:https://rhsroyals.nbed.ca/event/parent-portal-disabled-2/
END:VEVENT
END:VCALENDAR